View In:
ArcMap
ArcGIS Explorer
ArcGIS JavaScript
Google Earth
ArcGIS.com Map
View Footprint In:
Google Earth
Service Description:
Map Name: Layers
Legend
All Layers and Tables
Layers:
Tables:
Description:
Copyright Text:
Spatial Reference: 26852
Single Fused Map Cache: true
Tile Info:
- Height: 512
- Width: 512
- DPI: 96
- Levels of Detail: (# Levels: 11)
-
Level ID: 0
[Start Tile,
End Tile]
Resolution: 3472.22222222222
Scale: 4000000
-
Level ID: 1
[Start Tile,
End Tile]
Resolution: 1736.11111111111
Scale: 2000000
-
Level ID: 2
[Start Tile,
End Tile]
Resolution: 868.055555555556
Scale: 1000000
-
Level ID: 3
[Start Tile,
End Tile]
Resolution: 434.027777777778
Scale: 500000
-
Level ID: 4
[Start Tile,
End Tile]
Resolution: 217.013888888889
Scale: 250000
-
Level ID: 5
[Start Tile,
End Tile]
Resolution: 104.166666666667
Scale: 120000
-
Level ID: 6
[Start Tile,
End Tile]
Resolution: 52.0833333333333
Scale: 60000
-
Level ID: 7
[Start Tile,
End Tile]
Resolution: 26.0416666666667
Scale: 30000
-
Level ID: 8
[Start Tile,
End Tile]
Resolution: 13.0208333333333
Scale: 15000
-
Level ID: 9
[Start Tile,
End Tile]
Resolution: 6.94444444444444
Scale: 8000
-
Level ID: 10
[Start Tile,
End Tile]
Resolution: 3.47222222222222
Scale: 4000
- Format: JPEG
- Compression Quality: 75
-
Origin:
X: -119097700
Y: 145021300
- Spatial Reference: 26852
Initial Extent:
XMin: 53587.4761991088
YMin: -489261.583424796
XMax: 3400918.40370882
YMax: 1766971.95211435
Spatial Reference: 26852
Full Extent:
XMin: 248426.296193853
YMin: -671211.242421535
XMax: 3206079.58371408
YMax: 1948921.61111109
Spatial Reference: 26852
Units: esriFeet
Supported Image Format Types: PNG32,PNG24,PNG,JPG,DIB,TIFF,EMF,PS,PDF,GIF,SVG,SVGZ,BMP
Document Info:
- Title: well_test
- Author: srathje
- Comments:
- Subject:
- Category:
- Keywords:
- AntialiasingMode: None
- TextAntialiasingMode: Force
Supported Interfaces:
REST
SOAP
Supported Operations:
Export Map
Identify
Find
Generate KML